BEGIN:VCALENDAR
VERSION:2.0
PRODID:-//Women+ in Climate Tech - ECPv6.9.0//NONSGML v1.0//EN
CALSCALE:GREGORIAN
METHOD:PUBLISH
X-WR-CALNAME:Women+ in Climate Tech
X-ORIGINAL-URL:https://womeninclimatetech.org
X-WR-CALDESC:Events for Women+ in Climate Tech
REFRESH-INTERVAL;VALUE=DURATION:PT1H
X-Robots-Tag:noindex
X-PUBLISHED-TTL:PT1H
BEGIN:VTIMEZONE
TZID:America/New_York
BEGIN:DAYLIGHT
TZOFFSETFROM:-0500
TZOFFSETTO:-0400
TZNAME:EDT
DTSTART:20230312T070000
END:DAYLIGHT
BEGIN:STANDARD
TZOFFSETFROM:-0400
TZOFFSETTO:-0500
TZNAME:EST
DTSTART:20231105T060000
END:STANDARD
BEGIN:DAYLIGHT
TZOFFSETFROM:-0500
TZOFFSETTO:-0400
TZNAME:EDT
DTSTART:20240310T070000
END:DAYLIGHT
BEGIN:STANDARD
TZOFFSETFROM:-0400
TZOFFSETTO:-0500
TZNAME:EST
DTSTART:20241103T060000
END:STANDARD
TZID:America/Los_Angeles
BEGIN:DAYLIGHT
TZOFFSETFROM:-0800
TZOFFSETTO:-0700
TZNAME:PDT
DTSTART:20230312T100000
END:DAYLIGHT
BEGIN:STANDARD
TZOFFSETFROM:-0700
TZOFFSETTO:-0800
TZNAME:PST
DTSTART:20231105T090000
END:STANDARD
END:VTIMEZONE
BEGIN:VEVENT
DTSTART;TZID=America/New_York:20240312T110000
DTEND;TZID=America/New_York:20240312T120000
DTSTAMP:20260422T184002
CREATED:20240227T191604Z
LAST-MODIFIED:20240305T190612Z
UID:6547-1710241200-1710244800@womeninclimatetech.org
SUMMARY:Webinar Democracy and Decarbonization
DESCRIPTION:Both the US and the UK have major elections this year\, with much at stake for the future of both democracy and decarbonization.  In the US— traditionally consumer confidence and presidential popularity have aligned. Not so today for Biden. Why? What changes to climate might a GOP win bring? In contrast\, in the UK\, a Labour win looks almost certain\, and the party’s platform features climate extensively\, including the addition of a Wealth Fund. On Tuesday\, March 12th\, Women+ in Climate Tech’s panel will explore:The economic and climate impacts of election outcomes in both countries.\n\nWhy is Biden struggling despite economic gains? What could be going wrong with the IRA? And what can we do about it?\n\nHow climate and sustainability professionals can ensure the continuation of climate efforts beyond November regardless of election result.Register to AttendPlease enable JavaScript in your browser to complete this form.First Name *Last Name *Email *Company Name *Job Title *Suggested Donation *$25$50$75$100None at this time.Stripe Credit Card *CardName on CardSubmit
URL:https://womeninclimatetech.org/event/webinar-democracy-and-decarbonization/
CATEGORIES:Featured Speakers,Webinar
ATTACH;FMTTYPE=image/png:https://womeninclimatetech.org/wp-content/uploads/Screenshot-2024-03-05-at-2.03.49 PM.png
END:VEVENT
BEGIN:VEVENT
DTSTART;TZID=America/New_York:20240124T120000
DTEND;TZID=America/New_York:20240124T130000
DTSTAMP:20260422T184002
CREATED:20231205T182413Z
LAST-MODIFIED:20240122T131025Z
UID:5906-1706097600-1706101200@womeninclimatetech.org
SUMMARY:WiCT+ Wednesday: Women in the Sustainable Economy
DESCRIPTION:Women+ in Climate Tech is pleased host distinguished speakers for our January 24th panel on how women+ can benefit from IRA funding: Justina Gallegos\, Deputy Director\, White House Office of Science and Technology Policy will discuss the Women in the Sustainable Economy\, plus steps for women seeking funding from this and other initiatives.  Maya Goodwin\, Department of Energy Senior Advisor\, Workforce and Economic Opportunity Policy will explain the Community Benefit Plans\, how gender is included and how these can benefit women+. Leah Garden\, Staff Writer\, Greenbiz will discuss funding disparities for women and opportunities with the National Climate Investment Fund. Eva Garland\, CEO of Eva Garland Consulting will address successful grant writing strategies for climate tech companies. \n\n\n\nName(required)\n\n	\n\n\n\n\nEmail(required)\n\n	\n\n\n\n\nAttending?(required)\n Yes  No 	\n\n\n\n\nInterested in Sponsoring?(required)\n\n	\n\n\nSend RSVP		\n		\n		\n\nUpon RSVP’ing\, you will receive an email confirmation with the Zoom details and the ability to add this event to your calendar.
URL:https://womeninclimatetech.org/event/wict-wednesday-women-in-the-sustainable-economy/
ATTACH;FMTTYPE=image/png:https://womeninclimatetech.org/wp-content/uploads/Screenshot-2024-01-22-at-7.24.55 AM.png
END:VEVENT
BEGIN:VEVENT
DTSTART;TZID=America/New_York:20231026T180000
DTEND;TZID=America/New_York:20231026T200000
DTSTAMP:20260422T184002
CREATED:20230816T212234Z
LAST-MODIFIED:20231006T172945Z
UID:5627-1698343200-1698350400@womeninclimatetech.org
SUMMARY:Climate Tech Connect: Networking and the Future of Climate Tech in NC
DESCRIPTION:Join us at The Frontier RTP for a dynamic evening of networking\, education\, and empowerment hosted by Women+ in Climate Tech (WiCT+)!  Immerse yourself in the cutting-edge world of #climatetech and explore how gender disparity intersects with this transformative field. We’re here to raise awareness about the wealth of resources and expertise available right here in our vibrant North Carolina community.  What to expect: An inspirational panel of NC-based climate tech thought leaders.\n\nInteractive discussions about how NC is uniquely positioned to lead in the industry.\n\nA unique opportunity to connect with professionals from diverse backgrounds.\n\nA comfortable after-work format to fuel your networking. This event welcomes individuals of all gender identities and backgrounds! Whether you’re a seasoned expert or simply curious about the climate tech world\, you’ll have a chance to explore new topics and meet new people.    Secure your spot now\, as space is limited at this FREE event! Let’s unite to spark change\, forge connections\, and pave the way for a sustainable\, equitable future. WiCT+ Mission: Empower and amplify the voices of women+ in climate tech\, working to solve the biggest challenge of our time.   Meet your panel:\n\nDr. Sarah GlovaModerator Tech reporter\, entrepreneur\, and community engagement expert. \n\nDr. Deb WojcikPanelist Executive Director of Research Triangle Cleantech Cluster (RTCC)\, the RTP’s world-class cluster of 1\,800+ cleantech companies\, agencies\, and organization. \n\nDr. Vania Ramos PoncePanelist Advocate in Raleigh for Right to Start\, collaborating with the City to learn about resources available for entrepreneurs\, engaging with hispanic entrepreneurs to uncover their obstacles\, and supporting ways to lower barriers for starters. \n\nLaura CombsPanelist Senior Sales Associate with Eagle Solar & Light\, who has experience advocating for the planet as a government employee\, a nonprofit advocate\, and a private citizen. \n\nAnna AdlardPanelist President and Co-Founder of Workshop\, a design-thinking practice that activates teams for climate action. Please enable JavaScript in your browser to complete this form.Name *FirstLastEmail *Your RSVP *Looking forward to it!I can't make it this time.Submit
URL:https://womeninclimatetech.org/event/climate-tech-nc-drinks-and-networking/
LOCATION:The Frontier RTP\, 800 Building 800 Park Offices Dr\, Research Triangle Park\, North Carolina\, 27709\, United States
ATTACH;FMTTYPE=image/jpeg:https://womeninclimatetech.org/wp-content/uploads/New-image.jpg
END:VEVENT
BEGIN:VEVENT
DTSTART;TZID=America/New_York:20230627T160000
DTEND;TZID=America/New_York:20230627T180000
DTSTAMP:20260422T184002
CREATED:20230531T161112Z
LAST-MODIFIED:20230626T071643Z
UID:5558-1687881600-1687888800@womeninclimatetech.org
SUMMARY:Increasing Women’s Access to Capital to Fast-Track Climate Investment
DESCRIPTION:Join Women+ in Climate Tech thought leaders to learn how increasing women’s access to private and public wealth can accelerate net zero initiatives\, globally.  Registration Closed
URL:https://womeninclimatetech.org/event/increasing-womens-access-to-capital-to-fast-track-climate-investment/
LOCATION:ExCeL London\, Royal Victoria Dock\, 1 Western Gateway\, London\, E16 1XL\, United Kingdom
CATEGORIES:Featured Speakers
ATTACH;FMTTYPE=image/png:https://womeninclimatetech.org/wp-content/uploads/Screenshot-2023-06-21-at-12.54.44-PM.png
END:VEVENT
BEGIN:VEVENT
DTSTART;TZID=America/Los_Angeles:20230321T170000
DTEND;TZID=America/Los_Angeles:20230321T190000
DTSTAMP:20260422T184002
CREATED:20230124T154601Z
LAST-MODIFIED:20230314T191206Z
UID:5180-1679418000-1679425200@womeninclimatetech.org
SUMMARY:My Climate Journey Featuring Speakers Emily Wasley and Dana Brechwald
DESCRIPTION:Supported by Pillsbury Law\, the Nasdaq Entrepreneurial Center and Mattiq\, please join us for a San Francisco-area event on Tuesday\, March 21\, 2023\, 5-7 p.m. PST\, featuring speakers Emily Wasley\, Head of Resilience and Biodiversity\, Meta\, and Dana Brechwald\, Assistant Planning Director for Climate Adaptation\, San Francisco Bay Conservation and Development Commission (BCDC). Meet CommunityMentor and LearnMobilize for Action Register Below
URL:https://womeninclimatetech.org/event/my-climate-journey-featuring-emily-wasley/
LOCATION:Nasdaq Entrepreneurial Center\, 505 Howard Street\, San Francisco\, CA\, 94105\, United States
CATEGORIES:Featured Speakers
ATTACH;FMTTYPE=image/png:https://womeninclimatetech.org/wp-content/uploads/nasdaq-entreprenurial-center.png
END:VEVENT
END:VCALENDAR